BEGIN:VCALENDAR
VERSION:2.0
PRODID:-//Pearcedale Fire Brigade - ECPv6.15.20//NONSGML v1.0//EN
CALSCALE:GREGORIAN
METHOD:PUBLISH
X-WR-CALNAME:Pearcedale Fire Brigade
X-ORIGINAL-URL:https://pearcedalecfa.com.au
X-WR-CALDESC:Events for Pearcedale Fire Brigade
REFRESH-INTERVAL;VALUE=DURATION:PT1H
X-Robots-Tag:noindex
X-PUBLISHED-TTL:PT1H
BEGIN:VTIMEZONE
TZID:Australia/Melbourne
BEGIN:STANDARD
TZOFFSETFROM:+1100
TZOFFSETTO:+1000
TZNAME:AEST
DTSTART:20160402T160000
END:STANDARD
BEGIN:DAYLIGHT
TZOFFSETFROM:+1000
TZOFFSETTO:+1100
TZNAME:AEDT
DTSTART:20161001T160000
END:DAYLIGHT
BEGIN:STANDARD
TZOFFSETFROM:+1100
TZOFFSETTO:+1000
TZNAME:AEST
DTSTART:20170401T160000
END:STANDARD
BEGIN:DAYLIGHT
TZOFFSETFROM:+1000
TZOFFSETTO:+1100
TZNAME:AEDT
DTSTART:20170930T160000
END:DAYLIGHT
BEGIN:STANDARD
TZOFFSETFROM:+1100
TZOFFSETTO:+1000
TZNAME:AEST
DTSTART:20180331T160000
END:STANDARD
BEGIN:DAYLIGHT
TZOFFSETFROM:+1000
TZOFFSETTO:+1100
TZNAME:AEDT
DTSTART:20181006T160000
END:DAYLIGHT
END:VTIMEZONE
BEGIN:VEVENT
DTSTART;TZID=Australia/Melbourne:20171111T090000
DTEND;TZID=Australia/Melbourne:20171111T140000
DTSTAMP:20260425T022739
CREATED:20171106T023943Z
LAST-MODIFIED:20171106T024117Z
UID:1224-1510390800-1510408800@pearcedalecfa.com.au
SUMMARY:Sausage Sizzle Fundraiser
DESCRIPTION:Sausage Sizzle at Pearcedale shops this Saturday 11/11 from 9am to raise funds for our upcoming community golf day. \nSupport your local fire brigade by purchasing a sausage in bread or egg and bacon for breakfast! Come and say hello  \n 
URL:https://pearcedalecfa.com.au/cfa-event/sausagesizzle/
LOCATION:Pearcedale Village Shopping Centre\, Ellwood Dr / Baxter - Tooradin Rd\, Pearcedale\, Victoria\, 3912\, Australia
CATEGORIES:Community,Fundraising
ATTACH;FMTTYPE=image/jpeg:https://pearcedalecfa.com.au/wp-content/uploads/2017/11/20171029_095806.jpg
ORGANIZER;CN="Pearcedale Fire Brigade":MAILTO:santa@pearcedalecfa.com.au
END:VEVENT
END:VCALENDAR