BEGIN:VCALENDAR
VERSION:2.0
PRODID:-//Pearcedale Fire Brigade - ECPv6.15.20//NONSGML v1.0//EN
CALSCALE:GREGORIAN
METHOD:PUBLISH
X-WR-CALNAME:Pearcedale Fire Brigade
X-ORIGINAL-URL:https://pearcedalecfa.com.au
X-WR-CALDESC:Events for Pearcedale Fire Brigade
REFRESH-INTERVAL;VALUE=DURATION:PT1H
X-Robots-Tag:noindex
X-PUBLISHED-TTL:PT1H
BEGIN:VTIMEZONE
TZID:Australia/Melbourne
BEGIN:STANDARD
TZOFFSETFROM:+1100
TZOFFSETTO:+1000
TZNAME:AEST
DTSTART:20160402T160000
END:STANDARD
BEGIN:DAYLIGHT
TZOFFSETFROM:+1000
TZOFFSETTO:+1100
TZNAME:AEDT
DTSTART:20161001T160000
END:DAYLIGHT
BEGIN:STANDARD
TZOFFSETFROM:+1100
TZOFFSETTO:+1000
TZNAME:AEST
DTSTART:20170401T160000
END:STANDARD
BEGIN:DAYLIGHT
TZOFFSETFROM:+1000
TZOFFSETTO:+1100
TZNAME:AEDT
DTSTART:20170930T160000
END:DAYLIGHT
BEGIN:STANDARD
TZOFFSETFROM:+1100
TZOFFSETTO:+1000
TZNAME:AEST
DTSTART:20180331T160000
END:STANDARD
BEGIN:DAYLIGHT
TZOFFSETFROM:+1000
TZOFFSETTO:+1100
TZNAME:AEDT
DTSTART:20181006T160000
END:DAYLIGHT
END:VTIMEZONE
BEGIN:VEVENT
DTSTART;TZID=Australia/Melbourne:20171029T100000
DTEND;TZID=Australia/Melbourne:20171029T170000
DTSTAMP:20260425T022311
CREATED:20170304T141526Z
LAST-MODIFIED:20170304T141526Z
UID:1061-1509271200-1509296400@pearcedalecfa.com.au
SUMMARY:Pearcedale CFA Open Day
DESCRIPTION:Come and visit us at our Open Day and see our interactive displays\, chat with our members and let the kids run amok! \nThere will be jumping castles\, face painting and fire hydrants for the kids\, plus informative talks for the grown ups. Our popular smoke house will be here too and it wouldn’t be an open day without our famous BBQ sausage.
URL:https://pearcedalecfa.com.au/cfa-event/pearcedale-cfa-open-day/
LOCATION:Pearcedale Fire Brigade\, 26 Baxter-Tooradin Road\, Pearcedale\, Victoria\, 3912\, Australia
CATEGORIES:Community,Fundraising
ATTACH;FMTTYPE=image/jpeg:https://pearcedalecfa.com.au/wp-content/uploads/2016/12/2015-11-29-10.29.10.jpg
END:VEVENT
END:VCALENDAR